View In:
ArcGIS JavaScript
ArcGIS Online Map Viewer
ArcGIS Earth
ArcGIS Pro
Service Description: Other Parcel Tiled service for Middlesex Phase II
Map Name: OtherParcels
Legend
All Layers and Tables
Dynamic Legend
Dynamic All Layers
Layers:
Description: Other Parcel Tiled service for Middlesex Phase II
Service Item Id: 76037c68f62c495fb4e1446d648cd2bd
Copyright Text:
Spatial Reference:
102100
(3857)
Single Fused Map Cache: true
Tile Info:
- Height: 256
- Width: 256
- DPI: 96
-
Levels of Detail: 24
-
Level ID: 1
[ Start Tile, End Tile ]
- Resolution: 78271.5169639999
- Scale: 2.95828763795777E8
-
Level ID: 2
[ Start Tile, End Tile ]
- Resolution: 39135.7584820001
- Scale: 1.47914381897889E8
-
Level ID: 3
[ Start Tile, End Tile ]
- Resolution: 19567.8792409999
- Scale: 7.3957190948944E7
-
Level ID: 4
[ Start Tile, End Tile ]
- Resolution: 9783.93962049996
- Scale: 3.6978595474472E7
-
Level ID: 5
[ Start Tile, End Tile ]
- Resolution: 4891.96981024998
- Scale: 1.8489297737236E7
- Format: PNG
- Compression Quality: 0.0
- Origin: X: -2.0037508342787E7
Y: 2.0037508342787E7
- Spatial Reference: 102100
(3857)
Storage Info:
- Storage Format: esriMapCacheStorageModeCompactV2
- Packet Size: 128
Initial Extent:
XMin: -8325401.635084145
YMin: 4899736.826440018
XMax: -8242971.886795578
YMax: 4957498.617164095
Spatial Reference: 102100
Full Extent:
XMin: -8307870.710796526
YMin: 4902477.039858061
XMax: -8260732.715714251
YMax: 4954816.8479250595
Spatial Reference: 102100
Units: esriMeters
Supported Image Format Types: PNG32,PNG24,PNG,JPG,DIB,TIFF,EMF,PS,PDF,GIF,SVG,SVGZ,BMP
Document Info:
Title: Map
Author:
Comments:
Subject:
Category:
Keywords: other parcels tiled
AntialiasingMode: Fast
TextAntialiasingMode: Force
Supports Dynamic Layers: true
MaxRecordCount: 3000
MaxImageHeight: 4096
MaxImageWidth: 4096
Supported Query Formats: JSON, geoJSON, PBF
Supports Query Data Elements: true
Min Scale: 577790.554289
Max Scale: 9027.977411
Supports Datum Transformation: true
Child Resources:
Info
Dynamic Layer
Supported Operations:
Export Map
Identify
QueryLegends
QueryDomains
Find
Return Updates